BEGIN:VCALENDAR
VERSION:2.0
BEGIN:VEVENT
URL:https://tickets.393murray.com.au/outlet/event/fe58fb5c-696b-4f6f-baa7-221d90971e58
DTSTART:20260531T120000Z
DTEND:20260531T120000Z
SUMMARY:essence ft royal musiq and success sa
DESCRIPTION:Event details: https://tickets.393murray.com.au/outlet/event/fe58fb5c-696b-4f6f-baa7-221d90971e58
LOCATION:Magnet House (Perth, WA)
END:VEVENT
END:VCALENDAR