BEGIN:VCALENDAR
VERSION:2.0
BEGIN:VEVENT
URL:https://tickets.393murray.com.au/outlet/event/a168243b-0c4d-41e3-af06-2703bc4bdb62
DTSTART:20260510T113000Z
DTEND:20260510T113000Z
SUMMARY:Maggie Lindemann 'I Feel Everything' Australian Tour 2026
DESCRIPTION:Event details: https://tickets.393murray.com.au/outlet/event/a168243b-0c4d-41e3-af06-2703bc4bdb62
LOCATION:Magnet House (Perth, WA)
END:VEVENT
END:VCALENDAR