BEGIN:VCALENDAR
VERSION:2.0
BEGIN:VEVENT
URL:https://tickets.393murray.com.au/outlet/event/82feaab4-c7cd-4042-9809-7fb6771c303c
DTSTART:20260808T113000Z
DTEND:20260808T113000Z
SUMMARY:CHILLINIT - THE LAST LEG TOUR
DESCRIPTION:Event details: https://tickets.393murray.com.au/outlet/event/82feaab4-c7cd-4042-9809-7fb6771c303c
LOCATION:Magnet House (Perth, WA)
END:VEVENT
END:VCALENDAR