BEGIN:VCALENDAR
VERSION:2.0
BEGIN:VEVENT
URL:https://tickets.393murray.com.au/outlet/event/6f7bfb44-b62d-46dd-a919-8976ef795989
DTSTART:20260530T120000Z
DTEND:20260530T120000Z
SUMMARY:Taking Back Saturday - Perth
DESCRIPTION:Event details: https://tickets.393murray.com.au/outlet/event/6f7bfb44-b62d-46dd-a919-8976ef795989
LOCATION:Amplifier Bar (Perth, WA)
END:VEVENT
END:VCALENDAR