BEGIN:VCALENDAR
VERSION:2.0
BEGIN:VEVENT
URL:https://tickets.393murray.com.au/outlet/event/447dc58f-8762-4377-9f0d-e1c03a4c0b01
DTSTART:20260820T110000Z
DTEND:20260820T110000Z
SUMMARY:Holding Absence Australian Tour 2026
DESCRIPTION:Event details: https://tickets.393murray.com.au/outlet/event/447dc58f-8762-4377-9f0d-e1c03a4c0b01
LOCATION:Magnet House (Perth, WA)
END:VEVENT
END:VCALENDAR