BEGIN:VCALENDAR
VERSION:2.0
BEGIN:VEVENT
URL:https://tickets.393murray.com.au/outlet/event/1f3ad7b9-9eb6-4cfb-a8fb-3fcfbf7fc061
DTSTART:20260901T110000Z
DTEND:20260901T110000Z
SUMMARY:Skindred Australian Tour
DESCRIPTION:Event details: https://tickets.393murray.com.au/outlet/event/1f3ad7b9-9eb6-4cfb-a8fb-3fcfbf7fc061
LOCATION:Magnet House (Perth, WA)
END:VEVENT
END:VCALENDAR